BEGIN:VCALENDAR
VERSION:2.0
PRODID:-//Five Counties Children&#039;s Centre - ECPv5.16.4//NONSGML v1.0//EN
CALSCALE:GREGORIAN
METHOD:PUBLISH
X-ORIGINAL-URL:https://www.fivecounties.on.ca
X-WR-CALDESC:Events for Five Counties Children&#039;s Centre
REFRESH-INTERVAL;VALUE=DURATION:PT1H
X-Robots-Tag:noindex
X-PUBLISHED-TTL:PT1H
BEGIN:VTIMEZONE
TZID:America/Toronto
BEGIN:DAYLIGHT
TZOFFSETFROM:-0500
TZOFFSETTO:-0400
TZNAME:EDT
DTSTART:20220313T070000
END:DAYLIGHT
BEGIN:STANDARD
TZOFFSETFROM:-0400
TZOFFSETTO:-0500
TZNAME:EST
DTSTART:20221106T060000
END:STANDARD
END:VTIMEZONE
BEGIN:VEVENT
DTSTART;TZID=America/Toronto:20221119T080000
DTEND;TZID=America/Toronto:20221119T093000
DTSTAMP:20260421T134555
CREATED:20221028T181216Z
LAST-MODIFIED:20221110T133614Z
UID:11411-1668844800-1668850200@www.fivecounties.on.ca
SUMMARY:Santa's Breakfast
DESCRIPTION:Santa’s Breakfast\n\nWhat: Santa’s Breakfast is organized by Lansdowne Place and McDonald’s in support of Five Counties Children’s Centre. Enjoy a magical morning of pancakes and festive face painting to kick off the holiday season. Thanks to everyone for signing up for this event\, but it is now sold out.\nWhen: Saturday\, November 19\, 8-9:30 am\nWhere: Lansdowne Place Mall (645 Lansdowne Street West) in Peterborough\nTo Join: Event is sold out
URL:https://www.fivecounties.on.ca/mt-event/santa-breakfast/
LOCATION:Lansdowne Place\, 645 Lansdowne Street West\, Peterborough\, 645 Lansdowne Street West\, Peterborough\, Ontario\, K9J 7C5\, Canada
CATEGORIES:Third Party Fundraising Event
ATTACH;FMTTYPE=image/jpeg:https://www.fivecounties.on.ca/wp-content/uploads/2022/10/holiday-lights.jpg
GEO:44.2839183;-78.3306793
X-APPLE-STRUCTURED-LOCATION;VALUE=URI;X-ADDRESS=Lansdowne Place 645 Lansdowne Street West Peterborough 645 Lansdowne Street West Peterborough Ontario K9J 7C5 Canada;X-APPLE-RADIUS=500;X-TITLE=645 Lansdowne Street West:geo:-78.3306793,44.2839183
END:VEVENT
END:VCALENDAR