BEGIN:VCALENDAR
VERSION:2.0
PRODID:-//Five Counties Children&#039;s Centre - ECPv5.16.4//NONSGML v1.0//EN
CALSCALE:GREGORIAN
METHOD:PUBLISH
X-WR-CALNAME:Five Counties Children&#039;s Centre
X-ORIGINAL-URL:https://www.fivecounties.on.ca
X-WR-CALDESC:Events for Five Counties Children&#039;s Centre
REFRESH-INTERVAL;VALUE=DURATION:PT1H
X-Robots-Tag:noindex
X-PUBLISHED-TTL:PT1H
BEGIN:VTIMEZONE
TZID:America/Toronto
BEGIN:DAYLIGHT
TZOFFSETFROM:-0500
TZOFFSETTO:-0400
TZNAME:EDT
DTSTART:20220313T070000
END:DAYLIGHT
BEGIN:STANDARD
TZOFFSETFROM:-0400
TZOFFSETTO:-0500
TZNAME:EST
DTSTART:20221106T060000
END:STANDARD
END:VTIMEZONE
BEGIN:VEVENT
DTSTART;TZID=America/Toronto:20221026T140000
DTEND;TZID=America/Toronto:20221026T180000
DTSTAMP:20260424T100228
CREATED:20221014T193613Z
LAST-MODIFIED:20221014T194307Z
UID:11340-1666792800-1666807200@www.fivecounties.on.ca
SUMMARY:COVID-19 Vaccination Clinic for Kids
DESCRIPTION:COVID-19 Vaccination Clinic for Kids\n\nWhat: COVID-19 Vaccination Clinic for Children 6 Months to 4 Years of Age – Clinic will be family-friendly and sensory-friendly clinic for young children\nWhen; October 26\, 2-6 pm (by appointment only)\nWhere: Five Counties Children’s Centre & EarlyON Centre (800 Division St.) in Cobourg\nFor Appointments: Call the Haliburton\, Kawartha\, Pine Ridge District Health Unit at 1-866-888-4577\, ext. 1670 to book a vaccine appointment for your child. For information about COVID-19 vaccination for your child\, visit the Health Unit website.
URL:https://www.fivecounties.on.ca/mt-event/covid-19-vaccination-clinic-for-kids/
LOCATION:Cobourg\, Canada
ATTACH;FMTTYPE=image/jpeg:https://www.fivecounties.on.ca/wp-content/uploads/2022/10/child-vaccinate-low-rez.jpg
END:VEVENT
END:VCALENDAR