BEGIN:VCALENDAR
VERSION:2.0
PRODID:-//Five Counties Children&#039;s Centre - ECPv5.16.4//NONSGML v1.0//EN
CALSCALE:GREGORIAN
METHOD:PUBLISH
X-WR-CALNAME:Five Counties Children&#039;s Centre
X-ORIGINAL-URL:https://www.fivecounties.on.ca
X-WR-CALDESC:Events for Five Counties Children&#039;s Centre
REFRESH-INTERVAL;VALUE=DURATION:PT1H
X-Robots-Tag:noindex
X-PUBLISHED-TTL:PT1H
BEGIN:VTIMEZONE
TZID:America/Toronto
BEGIN:DAYLIGHT
TZOFFSETFROM:-0500
TZOFFSETTO:-0400
TZNAME:EDT
DTSTART:20220313T070000
END:DAYLIGHT
BEGIN:STANDARD
TZOFFSETFROM:-0400
TZOFFSETTO:-0500
TZNAME:EST
DTSTART:20221106T060000
END:STANDARD
END:VTIMEZONE
BEGIN:VEVENT
DTSTART;TZID=America/Toronto:20220915T110000
DTEND;TZID=America/Toronto:20220915T180000
DTSTAMP:20260421T001407
CREATED:20220726T193747Z
LAST-MODIFIED:20220726T193855Z
UID:10940-1663239600-1663264800@www.fivecounties.on.ca
SUMMARY:Rotary Golf Tournament
DESCRIPTION:Date: September 15\, 2022 \nThe Rotary Golf Tournament will be returning for the second year in a row in support of Five Counties Children’s Centre and other local Rotary projects. The tournament will be held on September 15th at Bellmere Winds Golf Resort. \nThe afternoon event will be a great way to get in a round of golf while supporting the kids in our communities. Kids like Deacon\, who was born with spina bifida\, and has been accessing Five Counties programs like physiotherapy\, occupational therapy and speech and language since he was three months old. “This event will help more kids get the care they need\, raise awareness\, and let kids with physical\, developmental and communications needs know they have a community behind them\, supporting them and cheering them on” says Five Counties mom\, Alana. “Deacon is always moving and always going somewhere\, and we credit a lot of that mobility to Five Counties and all the work they have done with him. We hope you will come out to the golf tournament and show your support for kids like Deacon!” \nTo register as a player\, visit tournaments.golftown.com/Peterboroughrotarygolf \nTo purchase raffle tickets email: mcox2@cogeco.ca \nTo sponsor the event email: nick.avlonitis@coachcanada.com
URL:https://www.fivecounties.on.ca/mt-event/rotary-golf-tournament-2/
LOCATION:Bellmere Winds Golf Club\, Keene Ontario\, 1235 Villiers Line\, Keene\, ON\, K0L 2G0\, Canada
GEO:44.2616372;-78.0951431
X-APPLE-STRUCTURED-LOCATION;VALUE=URI;X-ADDRESS=Bellmere Winds Golf Club Keene Ontario 1235 Villiers Line Keene ON K0L 2G0 Canada;X-APPLE-RADIUS=500;X-TITLE=1235 Villiers Line:geo:-78.0951431,44.2616372
END:VEVENT
END:VCALENDAR