BEGIN:VCALENDAR
VERSION:2.0
PRODID:-//Five Counties Children&#039;s Centre - ECPv5.16.4//NONSGML v1.0//EN
CALSCALE:GREGORIAN
METHOD:PUBLISH
X-WR-CALNAME:Five Counties Children&#039;s Centre
X-ORIGINAL-URL:https://www.fivecounties.on.ca
X-WR-CALDESC:Events for Five Counties Children&#039;s Centre
REFRESH-INTERVAL;VALUE=DURATION:PT1H
X-Robots-Tag:noindex
X-PUBLISHED-TTL:PT1H
BEGIN:VTIMEZONE
TZID:America/Toronto
BEGIN:DAYLIGHT
TZOFFSETFROM:-0500
TZOFFSETTO:-0400
TZNAME:EDT
DTSTART:20220313T070000
END:DAYLIGHT
BEGIN:STANDARD
TZOFFSETFROM:-0400
TZOFFSETTO:-0500
TZNAME:EST
DTSTART:20221106T060000
END:STANDARD
END:VTIMEZONE
BEGIN:VEVENT
DTSTART;TZID=America/Toronto:20220210T190000
DTEND;TZID=America/Toronto:20220210T190000
DTSTAMP:20260422T045621
CREATED:20220204T212146Z
LAST-MODIFIED:20220204T215550Z
UID:10105-1644519600-1644519600@www.fivecounties.on.ca
SUMMARY:Transitioning into High SchoolToolkit Webcast - Starting Strong in High School
DESCRIPTION:Transitioning into high school is an important time in your child’s life. There is a wide variety of new opportunities to take advantage of in secondary school and the choices you make now can have a real impact on your child’s life. \nAs a parent/caregiver of a child with a disability\, you often must take the lead in directing their lives in exploring options and creating new opportunities. Learn about your role as a parent in transition planning with your child’s school board and what you can do to help your child make the most of their high school career. \nThe Starting Strong in High School Webcast is part of the P4P Planning Network Transitioning Into High School Toolkit. \nClick here to learn more
URL:https://www.fivecounties.on.ca/mt-event/transitioning-into-high-schooltoolkit-webcast-starting-strong-in-high-school/
LOCATION:Virtual Event\, Canada
CATEGORIES:Community Partner
ATTACH;FMTTYPE=image/jpeg:https://www.fivecounties.on.ca/wp-content/uploads/2022/02/Presentation1-e1644009655765.jpg
ORGANIZER;CN="Partners%20for%20Planning":MAILTO:info@p4p.ca
END:VEVENT
END:VCALENDAR