BEGIN:VCALENDAR
VERSION:2.0
PRODID:-//Five Counties Children&#039;s Centre - ECPv5.16.4//NONSGML v1.0//EN
CALSCALE:GREGORIAN
METHOD:PUBLISH
X-WR-CALNAME:Five Counties Children&#039;s Centre
X-ORIGINAL-URL:https://www.fivecounties.on.ca
X-WR-CALDESC:Events for Five Counties Children&#039;s Centre
REFRESH-INTERVAL;VALUE=DURATION:PT1H
X-Robots-Tag:noindex
X-PUBLISHED-TTL:PT1H
BEGIN:VTIMEZONE
TZID:America/Toronto
BEGIN:DAYLIGHT
TZOFFSETFROM:-0500
TZOFFSETTO:-0400
TZNAME:EDT
DTSTART:20220313T070000
END:DAYLIGHT
BEGIN:STANDARD
TZOFFSETFROM:-0400
TZOFFSETTO:-0500
TZNAME:EST
DTSTART:20221106T060000
END:STANDARD
BEGIN:DAYLIGHT
TZOFFSETFROM:-0500
TZOFFSETTO:-0400
TZNAME:EDT
DTSTART:20230312T070000
END:DAYLIGHT
BEGIN:STANDARD
TZOFFSETFROM:-0400
TZOFFSETTO:-0500
TZNAME:EST
DTSTART:20231105T060000
END:STANDARD
END:VTIMEZONE
BEGIN:VEVENT
DTSTART;TZID=America/Toronto:20230220T140000
DTEND;TZID=America/Toronto:20230220T170000
DTSTAMP:20260420T033410
CREATED:20211109T204620Z
LAST-MODIFIED:20230202T200854Z
UID:9414-1676901600-1676912400@www.fivecounties.on.ca
SUMMARY:Family Game Day with the Peterborough Petes
DESCRIPTION:What: Cap the Family Day long weekend by joining Five Counties at the Peterborough Petes home game. The Maroon and White host the Sudbury Wolves in OHL action. This Family Day Petes game is part of Winterfest 2023 festivities.\nWhen: Monday\, Feb. 20\, 2 pm\nWhere: Peterborough Memorial Centre\, 151 Lansdowne St. W.\, in Peterborough\nWhy: Join the festivities! Cheer on the Petes and take part in fundraising opportunities in support of Five Counties. Tickets for the Petes’ game on Feb. 20 are $15 each\, with all proceeds going to Five Counties. To buy tickets\, contact the Centre at development@fivecounties.on.ca or call 1-888-779-9916\, ext. 300.
URL:https://www.fivecounties.on.ca/mt-event/family-game-day-with-the-peterborough-petes/
LOCATION:Peterborough Memorial Centre\, 151 Lansdowne St\,\, Peterborough\, Ontario\, K9J 1Y4\, Canada
CATEGORIES:Awareness Day
ATTACH;FMTTYPE=image/jpeg:https://www.fivecounties.on.ca/wp-content/uploads/2021/11/Petes-Tri-Colour-Maroon-Transparent.jpg
GEO:44.2889944;-78.3157618
X-APPLE-STRUCTURED-LOCATION;VALUE=URI;X-ADDRESS=Peterborough Memorial Centre 151 Lansdowne St Peterborough Ontario K9J 1Y4 Canada;X-APPLE-RADIUS=500;X-TITLE=151 Lansdowne St\,:geo:-78.3157618,44.2889944
END:VEVENT
BEGIN:VEVENT
DTSTART;TZID=America/Toronto:20221019T100000
DTEND;TZID=America/Toronto:20221019T120000
DTSTAMP:20260420T033410
CREATED:20220630T202153Z
LAST-MODIFIED:20220630T202153Z
UID:10785-1666173600-1666180800@www.fivecounties.on.ca
SUMMARY:Tell Me Something Good!
DESCRIPTION:Sharing Stories of Resilience & Hope\nIn this workshop we will explore examples of resiliency and how this occurs in every corner of our community. After two long years of a global pandemic\, this workshop is designed to highlight how small moments can have big impact. \nThis is a Virtual Event hosted through Microsoft Teams. \nRegister by emailing: CMorris@fivecounties.on.ca \nPresented by The Resiliency Collective including: Therapeutic Family Care Program\, WrapAround Northumberland\, Five Counties Children’s Centre\, PVNC Catholic District School Board\, and Quinte Children’s Treatment Centre
URL:https://www.fivecounties.on.ca/mt-event/tell-me-something-good/
LOCATION:Virtual Event\, Canada
ATTACH;FMTTYPE=image/png:https://www.fivecounties.on.ca/wp-content/uploads/2022/06/Untitled-design-1.png
END:VEVENT
BEGIN:VEVENT
DTSTART;TZID=America/Toronto:20221012T000000
DTEND;TZID=America/Toronto:20221017T170000
DTSTAMP:20260420T033410
CREATED:20220927T160759Z
LAST-MODIFIED:20221005T200316Z
UID:11240-1665532800-1666026000@www.fivecounties.on.ca
SUMMARY:Fall Online Auction - Every Bid Helps a Kid
DESCRIPTION:Fall Online Auction – Every Bid Helps a Kid\n  \n\nDate: October 12-17\nDetails: Five Counties Children’s Centre is pleased to host its Fall Online Auction from October 12-17. Mark it in your calendar so you don’t miss out.\n\nFind amazing one-of-a-kind items. Need the perfect gift for the holidays? A cozy quilt to keep warm as the nights get cooler? Unique host gifts? Halloween and Fall décor? We have got you covered!\nGet your holiday shopping done early\, support a great cause and snag a sweet deal. Win-win-win. Remember\, Every Bid Helps a Kid!\nVisit Auction site for details: events.readysetauction.com/fivecountieschildrenscentre/Fall
URL:https://www.fivecounties.on.ca/mt-event/fall-online-auction-every-bid-helps-a-kid/
ATTACH;FMTTYPE=image/png:https://www.fivecounties.on.ca/wp-content/uploads/2022/09/Fall-Auction-Square-Save-The-Date.png
END:VEVENT
BEGIN:VEVENT
DTSTART;TZID=America/Toronto:20220620T080000
DTEND;TZID=America/Toronto:20220626T180000
DTSTAMP:20260420T033410
CREATED:20220617T175731Z
LAST-MODIFIED:20220617T181043Z
UID:10706-1655712000-1656266400@www.fivecounties.on.ca
SUMMARY:Backyard Summer Social – Online Auction
DESCRIPTION:How to get in on the bidding:\nWe are using the auction website Ready Set Auction\, follow the instructions below to sign up for your account and check out the items that will be up for auction. We are adding new items every day until the bidding begins! \n\n\n\n Go to the auction website.\n Sign in/Request an account\n Fill out your information\n Check your email\, there should be one there so you can finish setting up\n Fill out your bidder information\n You’re in! Check out all of the unique items up for grabs\n\n\n\n*We recommend using Google Chrome or Firefox browsers\, Safari is not recommended for this site. \nIf you have any questions please email us at development@fivecounties.on.ca \n  \nStart Bidding Now\n  \nWe are grateful to the many new and returning donors who have made this auction possible with electronics\, gift baskets\, toys\, games and tons of gift cards to your favorite local shops. We are excited to share that 100% of items have been donated which means 100% of your bid goes directly towards helping Five Counties’ kids.
URL:https://www.fivecounties.on.ca/mt-event/backyard-summer-social-online-auction/
LOCATION:Virtual Event\, Canada
ATTACH;FMTTYPE=image/png:https://www.fivecounties.on.ca/wp-content/uploads/2022/06/BSS-Auction-Header.png
END:VEVENT
BEGIN:VEVENT
DTSTART;TZID=America/Toronto:20220620T010000
DTEND;TZID=America/Toronto:20220620T143000
DTSTAMP:20260420T033410
CREATED:20220601T195353Z
LAST-MODIFIED:20220617T181300Z
UID:10661-1655686800-1655735400@www.fivecounties.on.ca
SUMMARY:2022 FCCC Annual General Meeting
DESCRIPTION:The Board of Directors of the Five Counties Children’s Centre invites you to attend our Annual General Meeting. \nWe are pleased to announce our Keynote Speaker Dr. Robyne Hanley-Dafoe\, multi-award-winning psychology and education instructor. \nPlease RSVP to Allana Stewart by June 15 2022 at astewart@fivecounties.on.ca or 1-888-779-9916 ext. 382.  Due to space constraints\, our meeting will be held virtually. A link to the meeting will be sent via email when your RSVP. \nKeynote Speaker • HIGH FIVE Community Partner Awards • Staff Recognition Awards • Election of Officers \n \n  \nWe are delighted to announce that Dr. Robyne Hanley-Dafoe\, a multi-award-winning psychology and education instructor\, will be joining us as our Keynote Speaker. \nDr. Robyne Hanley-Dafoe specializes in resiliency\, navigating stress and change\, leadership\, and personal wellness in the workplace. Described as the most sought-after\, engaging\, thought provoking\, and truly transformative international speakers and scholars in her field\, Dr. Robyne Hanley-Dafoe keynotes provide practical strategies grounded in global research and case studies that help foster resiliency within others and ourselves.
URL:https://www.fivecounties.on.ca/mt-event/2022-fccc-annual-general-meeting/
LOCATION:Virtual Event\, Canada
ATTACH;FMTTYPE=image/png:https://www.fivecounties.on.ca/wp-content/uploads/2022/06/FCCC-2022-AGM.png
END:VEVENT
BEGIN:VEVENT
DTSTART;VALUE=DATE:20220218
DTEND;VALUE=DATE:20220222
DTSTAMP:20260420T033410
CREATED:20211109T204147Z
LAST-MODIFIED:20220114T185854Z
UID:9404-1645142400-1645487999@www.fivecounties.on.ca
SUMMARY:Winterfest 2022
DESCRIPTION:Winterfest Auction and Online Events\nBrought to you by our local Canadian Tire stores\, this family friendly event will be jam-packed with activities for kids of all ages and abilities. Look out for activities with the Peterborough Petes\, Washboard Hank\, Kawartha Lakes Public Library and more. There will be scavenger hunts and contests with tons of prizes to be won and an online auction with a wide variety of items. There is something for everyone!  \nJoin in on the fun: winterfest.fivecounties.on.ca  \nSkip right to the auction: https://events.readysetauction.com/fivecountieschildrenscentre/winterfest22   \nFeb 18-21 – Online activities & auction. All proceeds of Winterfest 2022 will go towards helping Five Counties’ Kids!  \nOn Monday\, February 21st Family Day Game with the Peterborough Petes will provide a great ending to Winterfest 2022.  \nThis event was made possible by our generous sponsors:   \n \n  \n 
URL:https://www.fivecounties.on.ca/mt-event/winterfest-2022/
LOCATION:Virtual Event\, Canada
END:VEVENT
END:VCALENDAR