BEGIN:VCALENDAR
VERSION:2.0
PRODID:-//Five Counties Children&#039;s Centre - ECPv5.16.4//NONSGML v1.0//EN
CALSCALE:GREGORIAN
METHOD:PUBLISH
X-WR-CALNAME:Five Counties Children&#039;s Centre
X-ORIGINAL-URL:https://www.fivecounties.on.ca
X-WR-CALDESC:Events for Five Counties Children&#039;s Centre
REFRESH-INTERVAL;VALUE=DURATION:PT1H
X-Robots-Tag:noindex
X-PUBLISHED-TTL:PT1H
BEGIN:VTIMEZONE
TZID:America/Toronto
BEGIN:DAYLIGHT
TZOFFSETFROM:-0500
TZOFFSETTO:-0400
TZNAME:EDT
DTSTART:20260308T070000
END:DAYLIGHT
BEGIN:STANDARD
TZOFFSETFROM:-0400
TZOFFSETTO:-0500
TZNAME:EST
DTSTART:20261101T060000
END:STANDARD
END:VTIMEZONE
BEGIN:VEVENT
DTSTART;TZID=America/Toronto:20260428T093000
DTEND;TZID=America/Toronto:20260428T110000
DTSTAMP:20260420T170649
CREATED:20260417T123513Z
LAST-MODIFIED:20260417T123635Z
UID:19015-1777368600-1777374000@www.fivecounties.on.ca
SUMMARY:Resource Learning Workshop - April 28
DESCRIPTION:Resource Learning Workshop – Cobourg \n\nWhat: Do you have a child with special needs? Unsure about how to access support services for them? Our free Resource Learning Workshop in Cobourg is here to help. Find out about funding available for children with disabilities\, including:\n\nSpecial Services at Home program funding\nAssistance for Children with Severe Disabilities Program funding\nand much more.\n\n\n\nTransportation is available upon request. This event is for adults only (no child care is provided). The workshop is open to all families (not just those receiving services through Five Counties). \n\nWhen: Tuesday\, April 28\, 9:30-11 am\nWhere: Five Counties Children’s Centre (800 Division St.\, Unit 2) in Cobourg\nTo Join: Click here to register. You can also contact Hayley Hodges at hhodges@fivecounties.on.ca for more information.\n\n  \n 
URL:https://www.fivecounties.on.ca/mt-event/resource-learning-workshop/
LOCATION:Five Counties Children’s Centre\, Cobourg Site\, 800 Division Street\, Cobourg\, Ontario\, K9A 5V2\, Canada
GEO:43.973822;-78.1710056
X-APPLE-STRUCTURED-LOCATION;VALUE=URI;X-ADDRESS=Five Counties Children’s Centre Cobourg Site 800 Division Street Cobourg Ontario K9A 5V2 Canada;X-APPLE-RADIUS=500;X-TITLE=800 Division Street:geo:-78.1710056,43.973822
END:VEVENT
END:VCALENDAR